BEGIN:VCALENDAR
VERSION:2.0
PRODID:-//Innovation Concerts - ECPv6.15.18//NONSGML v1.0//EN
CALSCALE:GREGORIAN
METHOD:PUBLISH
X-WR-CALNAME:Innovation Concerts
X-ORIGINAL-URL:https://innovationconcerts.com
X-WR-CALDESC:Events for Innovation Concerts
REFRESH-INTERVAL;VALUE=DURATION:PT1H
X-Robots-Tag:noindex
X-PUBLISHED-TTL:PT1H
BEGIN:VTIMEZONE
TZID:America/New_York
BEGIN:DAYLIGHT
TZOFFSETFROM:-0500
TZOFFSETTO:-0400
TZNAME:EDT
DTSTART:20250309T070000
END:DAYLIGHT
BEGIN:STANDARD
TZOFFSETFROM:-0400
TZOFFSETTO:-0500
TZNAME:EST
DTSTART:20251102T060000
END:STANDARD
BEGIN:DAYLIGHT
TZOFFSETFROM:-0500
TZOFFSETTO:-0400
TZNAME:EDT
DTSTART:20260308T070000
END:DAYLIGHT
BEGIN:STANDARD
TZOFFSETFROM:-0400
TZOFFSETTO:-0500
TZNAME:EST
DTSTART:20261101T060000
END:STANDARD
BEGIN:DAYLIGHT
TZOFFSETFROM:-0500
TZOFFSETTO:-0400
TZNAME:EDT
DTSTART:20270314T070000
END:DAYLIGHT
BEGIN:STANDARD
TZOFFSETFROM:-0400
TZOFFSETTO:-0500
TZNAME:EST
DTSTART:20271107T060000
END:STANDARD
END:VTIMEZONE
BEGIN:VEVENT
DTSTART;TZID=America/New_York:20260523T190000
DTEND;TZID=America/New_York:20260523T190000
DTSTAMP:20260422T062719
CREATED:20260331T190638Z
LAST-MODIFIED:20260416T162403Z
UID:10000348-1779562800-1779562800@innovationconcerts.com
SUMMARY:Seeding The Dead
DESCRIPTION:wsg/ Foxbat\, Tan and Handsome\, Restoring Ruby and ZenaDare \nAdvance tickets: $8.00 | $10.00 day of show \n+$5.00 if under 21
URL:https://innovationconcerts.com/event/seeding-the-dead-4/
LOCATION:Ottawa Tavern\, 1815 Adams St\, Toledo\, OH\, 43604\, United States
CATEGORIES:OT
ATTACH;FMTTYPE=image/jpeg:https://innovationconcerts.com/wp-content/uploads/2026/03/toledo-IG-copy.jpg
END:VEVENT
END:VCALENDAR